BEGIN:VCALENDAR
VERSION:2.0
PRODID:-//SSAC Hockey - ECPv4.5.7//NONSGML v1.0//EN
CALSCALE:GREGORIAN
METHOD:PUBLISH
X-WR-CALNAME:SSAC Hockey
X-ORIGINAL-URL:https://ssac.hockey
X-WR-CALDESC:Events for SSAC Hockey
BEGIN:VEVENT
DTSTART;TZID=America/Edmonton:20211228T203000
DTEND;TZID=America/Edmonton:20211228T213000
DTSTAMP:20260422T111753
CREATED:20211208T195207Z
LAST-MODIFIED:20211208T195207Z
UID:<span 
                data-original-string="WxCEHH4uE6k/5+mAFSRtiA==052o3uOdgMAk/Ga8kqUS7lws5eCBcm+1az8iS8NHdUw7qzTrwNwCtUcm4rBSg+hc3Sv"
                class="apbct-email-encoder"
                title="This contact has been encoded by Anti-Spam by CleanTalk. Click to decode. To finish the decoding make sure that JavaScript is enabled in your browser.">24<span class="apbct-blur">*************************@ss**.hock</span>ey</span>
SUMMARY:U15 AA BC Practice 20:30 TCD
DESCRIPTION:U15 AA Barbecue Country @ Terwillegar D \n
URL:https://ssac.hockey/event/u15-aa-bc-practice-2030-tcd/
LOCATION:2051 Leger Rd NW\, Edmonton\, AB\, T6R 0R8\, Canada
CATEGORIES:U15 AA,U15 AA Barbecue Country
END:VEVENT
END:VCALENDAR