BEGIN:VCALENDAR
VERSION:2.0
PRODID:-//SSAC Hockey - ECPv4.5.7//NONSGML v1.0//EN
CALSCALE:GREGORIAN
METHOD:PUBLISH
X-WR-CALNAME:SSAC Hockey
X-ORIGINAL-URL:https://ssac.hockey
X-WR-CALDESC:Events for SSAC Hockey
BEGIN:VEVENT
DTSTART;TZID=America/Edmonton:20220122T201500
DTEND;TZID=America/Edmonton:20220122T211500
DTSTAMP:20260425T195128
CREATED:20220101T104308Z
LAST-MODIFIED:20220101T104308Z
UID:<span 
                data-original-string="XMvp1NTomP9bgeKl3aJClQ==052R8aaYJnPnC50y0hD33piuhPsjPh+qoEc6VrYUE4xglZdaN6bHUZ2fHGLRlCAsLqj"
                class="apbct-email-encoder"
                title="This contact has been encoded by Anti-Spam by CleanTalk. Click to decode. To finish the decoding make sure that JavaScript is enabled in your browser.">25<span class="apbct-blur">*************************@ss**.hock</span>ey</span>
SUMMARY:U15 AA BC Practice 20:15 KMB
DESCRIPTION:U15 AA Barbecue Country @ Kinsmen B \n
URL:https://ssac.hockey/event/u15-aa-bc-practice-2015-kmb/
LOCATION:1979 111 St NW\, Edmonton\, AB\, T6J 7C6\, Canada
CATEGORIES:U15 AA,U15 AA Barbecue Country
END:VEVENT
END:VCALENDAR