BEGIN:VCALENDAR
VERSION:2.0
PRODID:-//SSAC Hockey - ECPv4.5.7//NONSGML v1.0//EN
CALSCALE:GREGORIAN
METHOD:PUBLISH
X-WR-CALNAME:SSAC Hockey
X-ORIGINAL-URL:https://ssac.hockey
X-WR-CALDESC:Events for SSAC Hockey
BEGIN:VEVENT
DTSTART;TZID=America/Edmonton:20220109T200000
DTEND;TZID=America/Edmonton:20220109T210000
DTSTAMP:20260423T060241
CREATED:20220101T104136Z
LAST-MODIFIED:20220101T104136Z
UID:<span 
                data-original-string="QTYSaMUVjjjRkxAOXERJtg==052H1BrUAJjO8iC0uo2+kwpZMMEaRR0asIjolUxjXevKwib3EZdmV3ytxeE0aBx1XAT"
                class="apbct-email-encoder"
                title="This contact has been encoded by Anti-Spam by CleanTalk. Click to decode. To finish the decoding make sure that JavaScript is enabled in your browser.">25<span class="apbct-blur">*************************@ss**.hock</span>ey</span>
SUMMARY:U15 AA BC Practice 20:00 MWA
DESCRIPTION:U15 AA Barbecue Country @ Kyle Fundytus Mill Woods A \n
URL:https://ssac.hockey/event/u15-aa-bc-practice-2000-mwa/
LOCATION:7207 28 Ave NW\, Edmonton\, AB\, T6K 3Z3\, Canada
CATEGORIES:U15 AA,U15 AA Barbecue Country
END:VEVENT
END:VCALENDAR