BEGIN:VCALENDAR
VERSION:2.0
PRODID:-//SSAC Hockey - ECPv4.5.7//NONSGML v1.0//EN
CALSCALE:GREGORIAN
METHOD:PUBLISH
X-WR-CALNAME:SSAC Hockey
X-ORIGINAL-URL:https://ssac.hockey
X-WR-CALDESC:Events for SSAC Hockey
BEGIN:VEVENT
DTSTART;TZID=America/Edmonton:20211217T171500
DTEND;TZID=America/Edmonton:20211217T181500
DTSTAMP:20260423T063315
CREATED:20211120T083733Z
LAST-MODIFIED:20211120T083733Z
UID:<span 
                data-original-string="aKZZ2Xi831pGPCtc4Kf3LQ==052htRNnbjRDCTZjQy2w7+1LuI/IQXz3GhrKTlWaRoS7Ilcmvijdhdptr+ZOWlhn89c"
                class="apbct-email-encoder"
                title="This contact has been encoded by Anti-Spam by CleanTalk. Click to decode. To finish the decoding make sure that JavaScript is enabled in your browser.">23<span class="apbct-blur">*************************@ss**.hock</span>ey</span>
SUMMARY:U15 AA BC Practice 17:15 KEA
DESCRIPTION:U15 AA Barbecue Country @ Kenilworth \n
URL:https://ssac.hockey/event/u15-aa-bc-practice-1715-kea-4/
LOCATION:8313 68A St NW\, Edmonton\, AB\, T6B 0J9\, Canada
CATEGORIES:U15 AA,U15 AA Barbecue Country
END:VEVENT
END:VCALENDAR