BEGIN:VCALENDAR
VERSION:2.0
PRODID:-//SSAC Hockey - ECPv4.5.7//NONSGML v1.0//EN
CALSCALE:GREGORIAN
METHOD:PUBLISH
X-WR-CALNAME:SSAC Hockey
X-ORIGINAL-URL:https://ssac.hockey
X-WR-CALDESC:Events for SSAC Hockey
BEGIN:VEVENT
DTSTART;TZID=America/Edmonton:20211122T201500
DTEND;TZID=America/Edmonton:20211122T223000
DTSTAMP:20260423T064405
CREATED:20211026T024156Z
LAST-MODIFIED:20211026T024156Z
UID:<span 
                data-original-string="4qP//kthmy8kQ0lQxIwFEA==0521wt0pLrbNVguXpU2Esbaea5DV7JB+/oBDZl3gzDmEeZrxx/muJ1D/p8tB3l49oHo"
                class="apbct-email-encoder"
                title="This contact has been encoded by Anti-Spam by CleanTalk. Click to decode. To finish the decoding make sure that JavaScript is enabled in your browser.">22<span class="apbct-blur">*************************@ss**.hock</span>ey</span>
SUMMARY:U15 AA BC Game 20:15 MWA
DESCRIPTION:U15 AA Barbecue Country vs SSAC Innovation Physio @ Kyle Fundytus Mill Woods A \n
URL:https://ssac.hockey/event/u15-aa-bc-game-2015-mwa/
LOCATION:7207 28 Ave NW\, Edmonton\, AB\, T6K 3Z3\, Canada
CATEGORIES:U15 AA,U15 AA Barbecue Country
END:VEVENT
END:VCALENDAR