BEGIN:VCALENDAR
VERSION:2.0
PRODID:-//SSAC Hockey - ECPv4.5.7//NONSGML v1.0//EN
CALSCALE:GREGORIAN
METHOD:PUBLISH
X-WR-CALNAME:SSAC Hockey
X-ORIGINAL-URL:https://ssac.hockey
X-WR-CALDESC:Events for SSAC Hockey
BEGIN:VEVENT
DTSTART;TZID=America/Edmonton:20220117T200000
DTEND;TZID=America/Edmonton:20220117T221500
DTSTAMP:20260425T111842
CREATED:20220101T104309Z
LAST-MODIFIED:20220101T104309Z
UID:<span 
                data-original-string="0xrRfh1We1p3XBHrAy0zhQ==052jnQLrx/VvE1LkzhHCwxVj20W0lepV3w2WBy2eOV6EzFcZFZ7ToDjvAc5DM+tUWQk"
                class="apbct-email-encoder"
                title="This contact has been encoded by Anti-Spam by CleanTalk. Click to decode. To finish the decoding make sure that JavaScript is enabled in your browser.">25<span class="apbct-blur">*************************@ss**.hock</span>ey</span>
SUMMARY:U15 AA BC Game 20:00 CVB
DESCRIPTION:U15 AA Barbecue Country vs KC Voyageurs @ Clareview B \n
URL:https://ssac.hockey/event/u15-aa-bc-game-2000-cvb-4/
LOCATION:3804 139 Avenue NW\, Edmonton\, T5Y 1Z4\, Canada
CATEGORIES:U15 AA,U15 AA Barbecue Country
END:VEVENT
END:VCALENDAR