BEGIN:VCALENDAR
VERSION:2.0
PRODID:-//SSAC Hockey - ECPv4.5.7//NONSGML v1.0//EN
CALSCALE:GREGORIAN
METHOD:PUBLISH
X-WR-CALNAME:SSAC Hockey
X-ORIGINAL-URL:https://ssac.hockey
X-WR-CALDESC:Events for SSAC Hockey
BEGIN:VEVENT
DTSTART;TZID=America/Edmonton:20211206T200000
DTEND;TZID=America/Edmonton:20211206T221500
DTSTAMP:20260422T075204
CREATED:20211026T024156Z
LAST-MODIFIED:20211120T083808Z
UID:<span 
                data-original-string="Ws98EOwRh6ZUV+bOsW1vLg==052YgpEMYlEvP0fwtyEJUxBGS/IOUCdBNIanXCyTv+2RbJEUfEnafJDJZfIqQZa8kdr"
                class="apbct-email-encoder"
                title="This contact has been encoded by Anti-Spam by CleanTalk. Click to decode. To finish the decoding make sure that JavaScript is enabled in your browser.">22<span class="apbct-blur">*************************@ss**.hock</span>ey</span>
SUMMARY:U15 AA BC Game 20:00 CVB
DESCRIPTION:U15 AA Barbecue Country vs KC Shamrocks @ Clareview B \n
URL:https://ssac.hockey/event/u15-aa-bc-game-2000-cvb-3/
LOCATION:3804 139 Avenue NW\, Edmonton\, T5Y 1Z4\, Canada
CATEGORIES:U15 AA,U15 AA Barbecue Country
END:VEVENT
END:VCALENDAR