BEGIN:VCALENDAR
VERSION:2.0
PRODID:-//SSAC Hockey - ECPv4.5.7//NONSGML v1.0//EN
CALSCALE:GREGORIAN
METHOD:PUBLISH
X-WR-CALNAME:SSAC Hockey
X-ORIGINAL-URL:https://ssac.hockey
X-WR-CALDESC:Events for SSAC Hockey
BEGIN:VEVENT
DTSTART;TZID=America/Edmonton:20211213T200000
DTEND;TZID=America/Edmonton:20211213T221500
DTSTAMP:20260422T205346
CREATED:20211120T083808Z
LAST-MODIFIED:20211120T083808Z
UID:<span 
                data-original-string="9X8EW3eoJ54br62dYSbtVQ==052w5VWb3+AfM7dQq7uXV4bWWEb5HBdqjqT3vgm0j53iG8LzGOTQg5PN77SFvMQwQUi"
                class="apbct-email-encoder"
                title="This contact has been encoded by Anti-Spam by CleanTalk. Click to decode. To finish the decoding make sure that JavaScript is enabled in your browser.">23<span class="apbct-blur">*************************@ss**.hock</span>ey</span>
SUMMARY:U15 AA BC Game 20:00 CDA
DESCRIPTION:U15 AA Barbecue Country vs St Albert Bears @ Castle Downs A \n
URL:https://ssac.hockey/event/u15-aa-bc-game-2000-cda-4/
LOCATION:11520 - 153 Avenue NW\, Edmonton\, AB\, T5X 6A3\, Canada
CATEGORIES:U15 AA,U15 AA Barbecue Country
END:VEVENT
END:VCALENDAR