BEGIN:VCALENDAR
VERSION:2.0
PRODID:-//SSAC Hockey - ECPv4.5.7//NONSGML v1.0//EN
CALSCALE:GREGORIAN
METHOD:PUBLISH
X-WR-CALNAME:SSAC Hockey
X-ORIGINAL-URL:https://ssac.hockey
X-WR-CALDESC:Events for SSAC Hockey
BEGIN:VEVENT
DTSTART;TZID=America/Edmonton:20220213T114500
DTEND;TZID=America/Edmonton:20220213T140000
DTSTAMP:20260425T190623
CREATED:20220204T214019Z
LAST-MODIFIED:20220204T220507Z
UID:<span 
                data-original-string="OmE/Z8f/I2VinMR9MClLrQ==052TlpdesZYVq1wwEqCcVp36OZnL/HkRFCM5UZA468wyCjkhBL/oKpyFVpS5zTCgaUo"
                class="apbct-email-encoder"
                title="This contact has been encoded by Anti-Spam by CleanTalk. Click to decode. To finish the decoding make sure that JavaScript is enabled in your browser.">26<span class="apbct-blur">*************************@ss**.hock</span>ey</span>
SUMMARY:U15 AA BC Exhibition 11:45 DCA
DESCRIPTION:U15 AA Barbecue Country vs CAC Imperial Equities @ Downtown \n
URL:https://ssac.hockey/event/u15-aa-bc-game-1145-dca/
LOCATION:10245 105 Ave NW\, Edmonton\, AB\, T5H 2R8\, Canada
CATEGORIES:U15 AA,U15 AA Barbecue Country
END:VEVENT
END:VCALENDAR