BEGIN:VCALENDAR
VERSION:2.0
PRODID:-//SSAC Hockey - ECPv4.5.7//NONSGML v1.0//EN
CALSCALE:GREGORIAN
METHOD:PUBLISH
X-WR-CALNAME:SSAC Hockey
X-ORIGINAL-URL:https://ssac.hockey
X-WR-CALDESC:Events for SSAC Hockey
BEGIN:VEVENT
DTSTART;TZID=America/Edmonton:20260425T090000
DTEND;TZID=America/Edmonton:20260425T100000
DTSTAMP:20260421T231826
CREATED:20260421T190359Z
LAST-MODIFIED:20260421T190359Z
UID:<span 
                data-original-string="u/Ikak7dljPCxPjCHNnBCA==052g9wDEszV5Olm3EtkQzCemnzMtt6V6rrB9J21+SoECphW56rYg1mcSEzCmsy/NQ+b"
                class="apbct-email-encoder"
                title="This contact has been encoded by Anti-Spam by CleanTalk. Click to decode. To finish the decoding make sure that JavaScript is enabled in your browser.">44<span class="apbct-blur">*************************@ss**.hock</span>ey</span>
SUMMARY:U13 AAA Spring ID Group 3 Scrimmage 09:00 Meadows West
DESCRIPTION:U13 AAA Spring ID Group 3 Scrimmage @ Meadows West \n
URL:https://ssac.hockey/event/u13-aaa-spring-id-group-3-scrimmage-0900-meadows-west/
LOCATION:2704 - 17 St NW\, Edmonton\, AB\, T6T 1H9\, Canada
CATEGORIES:U13 AA,U13 AAA
END:VEVENT
END:VCALENDAR