BEGIN:VCALENDAR
VERSION:2.0
PRODID:-//SSAC Hockey - ECPv4.5.7//NONSGML v1.0//EN
CALSCALE:GREGORIAN
METHOD:PUBLISH
X-WR-CALNAME:SSAC Hockey
X-ORIGINAL-URL:https://ssac.hockey
X-WR-CALDESC:Events for SSAC Hockey
BEGIN:VEVENT
DTSTART;TZID=America/Edmonton:20260422T204500
DTEND;TZID=America/Edmonton:20260422T214500
DTSTAMP:20260421T230759
CREATED:20260421T190357Z
LAST-MODIFIED:20260421T190357Z
UID:<span 
                data-original-string="4WGYj8x+jcx76Lgef2l5vw==052j4osj7mhlgDvfEr0QKifsgbjBiPDFZokxg/4dAHGVTUTA8qc/Bm753AtnCrCTfKM"
                class="apbct-email-encoder"
                title="This contact has been encoded by Anti-Spam by CleanTalk. Click to decode. To finish the decoding make sure that JavaScript is enabled in your browser.">44<span class="apbct-blur">*************************@ss**.hock</span>ey</span>
SUMMARY:U13 AAA Spring ID Group 2 Skills | Small Area 20:45 Confederation
DESCRIPTION:U13 AAA Spring ID Group 2 Skills | Small Area @ Confederation \n
URL:https://ssac.hockey/event/u13-aaa-spring-id-group-2-skills-small-area-2045-confederation/
LOCATION:11204 43 Ave NW\, Edmonton\, AB\, T6J 2R3\, Canada
CATEGORIES:U13 AA,U13 AAA
END:VEVENT
END:VCALENDAR