BEGIN:VCALENDAR
VERSION:2.0
PRODID:-//SSAC Hockey - ECPv4.5.7//NONSGML v1.0//EN
CALSCALE:GREGORIAN
METHOD:PUBLISH
X-WR-CALNAME:SSAC Hockey
X-ORIGINAL-URL:https://ssac.hockey
X-WR-CALDESC:Events for SSAC Hockey
BEGIN:VEVENT
DTSTART;TZID=America/Edmonton:20260424T193000
DTEND;TZID=America/Edmonton:20260424T203000
DTSTAMP:20260421T230917
CREATED:20260421T190358Z
LAST-MODIFIED:20260421T190358Z
UID:<span 
                data-original-string="94ywxakthgPk6VRYrJIsjA==0526RkzTdcuZ32V4JVZjuk776my5AgCrpX26jNSPCTEhtJi8+a6n1oMFMpjoXEiOghQ"
                class="apbct-email-encoder"
                title="This contact has been encoded by Anti-Spam by CleanTalk. Click to decode. To finish the decoding make sure that JavaScript is enabled in your browser.">44<span class="apbct-blur">*************************@ss**.hock</span>ey</span>
SUMMARY:U13 AAA Spring ID Group 2 Scrimmage 19:30 Mill Woods A
DESCRIPTION:U13 AAA Spring ID Group 2 Scrimmage @ Kyle Fundytus Mill Woods A \n
URL:https://ssac.hockey/event/u13-aaa-spring-id-group-2-scrimmage-1930-mill-woods-a/
LOCATION:7207 28 Ave NW\, Edmonton\, AB\, T6K 3Z3\, Canada
CATEGORIES:U13 AA,U13 AAA
END:VEVENT
END:VCALENDAR