BEGIN:VCALENDAR
VERSION:2.0
PRODID:-//SSAC Hockey - ECPv4.5.7//NONSGML v1.0//EN
CALSCALE:GREGORIAN
METHOD:PUBLISH
X-WR-CALNAME:SSAC Hockey
X-ORIGINAL-URL:https://ssac.hockey
X-WR-CALDESC:Events for SSAC Hockey
BEGIN:VEVENT
DTSTART;TZID=America/Edmonton:20251017T181500
DTEND;TZID=America/Edmonton:20251017T191500
DTSTAMP:20260422T084846
CREATED:20250923T223802Z
LAST-MODIFIED:20250923T223802Z
UID:<span 
                data-original-string="JtHeW5nDsprHJ61xi+khbg==052bzwNrPFdgJ0KLJrlmE41z/tp0iEccwW/ErINpC3m1HAqL+I5dIi3YDqJUF7XtqYF"
                class="apbct-email-encoder"
                title="This contact has been encoded by Anti-Spam by CleanTalk. Click to decode. To finish the decoding make sure that JavaScript is enabled in your browser.">40<span class="apbct-blur">*************************@ss**.hock</span>ey</span>
SUMMARY:U13 AAA Practice 18:15 DON
DESCRIPTION:U13 AAA Best Marketing @ Donnan \n
URL:https://ssac.hockey/event/u13-aaa-practice-1815-don-3/
LOCATION:9105 80 Avenue\, Edmonton\, AB\, T6C 0N9\, Canada
CATEGORIES:U13 AAA
END:VEVENT
END:VCALENDAR