BEGIN:VCALENDAR
VERSION:2.0
PRODID:-//SSAC Hockey - ECPv4.5.7//NONSGML v1.0//EN
CALSCALE:GREGORIAN
METHOD:PUBLISH
X-WR-CALNAME:SSAC Hockey
X-ORIGINAL-URL:https://ssac.hockey
X-WR-CALDESC:Events for SSAC Hockey
BEGIN:VEVENT
DTSTART;TZID=America/Edmonton:20250202T121500
DTEND;TZID=America/Edmonton:20250202T143000
DTSTAMP:20260423T224628
CREATED:20250129T030607Z
LAST-MODIFIED:20250129T030607Z
UID:<span 
                data-original-string="RodJC40/igvQUUpJoFkHeQ==052ztm1MFJAjD3UHElTigB706KqkrnAWI0KN91LcCT1hhRou2DCSpA/H89mY4bSAp7o"
                class="apbct-email-encoder"
                title="This contact has been encoded by Anti-Spam by CleanTalk. Click to decode. To finish the decoding make sure that JavaScript is enabled in your browser.">39<span class="apbct-blur">*************************@ss**.hock</span>ey</span>
SUMMARY:U13 AAA Game 12:15 CIV
DESCRIPTION:U13 AAA ZerOne at Lloydminster Lancers @ Centennial Civic  \n
URL:https://ssac.hockey/event/u13-aaa-game-1215-civ/
LOCATION:5405 49 Ave\,\, Lloydminster\, SK\, S9V 1A4\, Canada
CATEGORIES:U13 AAA
END:VEVENT
END:VCALENDAR