BEGIN:VCALENDAR
VERSION:2.0
PRODID:-//SSAC Hockey - ECPv4.5.7//NONSGML v1.0//EN
CALSCALE:GREGORIAN
METHOD:PUBLISH
X-WR-CALNAME:SSAC Hockey
X-ORIGINAL-URL:https://ssac.hockey
X-WR-CALDESC:Events for SSAC Hockey
BEGIN:VEVENT
DTSTART;TZID=America/Edmonton:20220110T170000
DTEND;TZID=America/Edmonton:20220110T180000
DTSTAMP:20260423T060454
CREATED:20211231T225249Z
LAST-MODIFIED:20211231T225249Z
UID:<span 
                data-original-string="wvX5A1hvRKNRQFkpcDvW+g==0526uYWuA2qG/yXVe3nfdqaEOMdyc3yLAIu0TSA1JkDtf9hs3PYXRUUPelR94RNWkAB"
                class="apbct-email-encoder"
                title="This contact has been encoded by Anti-Spam by CleanTalk. Click to decode. To finish the decoding make sure that JavaScript is enabled in your browser.">25<span class="apbct-blur">*************************@ss**.hock</span>ey</span>
SUMMARY:U13 AA TC Skills 17:00 BHA
DESCRIPTION:U13 AA Traxx Coachlines | Quantum Speed @ Bill Hunter \n
URL:https://ssac.hockey/event/u13-aa-tc-skills-1700-bha-4/
LOCATION:9200 - 163 Street NW\, Edmonton\, AB\, T5R 2P3\, Canada
CATEGORIES:U13 AA,U13 AA Traxx Coachlines
END:VEVENT
END:VCALENDAR