BEGIN:VCALENDAR
VERSION:2.0
PRODID:-//SSAC Hockey - ECPv4.5.7//NONSGML v1.0//EN
CALSCALE:GREGORIAN
METHOD:PUBLISH
X-WR-CALNAME:SSAC Hockey
X-ORIGINAL-URL:https://ssac.hockey
X-WR-CALDESC:Events for SSAC Hockey
BEGIN:VEVENT
DTSTART;TZID=America/Edmonton:20220123T194500
DTEND;TZID=America/Edmonton:20220123T204500
DTSTAMP:20260424T054756
CREATED:20211231T225248Z
LAST-MODIFIED:20211231T225248Z
UID:<span 
                data-original-string="frtluZ0x9JSQt62Eii6XFg==052JiXQylnjhrYQFFaX+h3Z4M7uZ0675XaSptjYy8ziMqBYIcp8PVQDj5OVZ49jBwIz"
                class="apbct-email-encoder"
                title="This contact has been encoded by Anti-Spam by CleanTalk. Click to decode. To finish the decoding make sure that JavaScript is enabled in your browser.">25<span class="apbct-blur">*************************@ss**.hock</span>ey</span>
SUMMARY:U13 AA TC Practice 19:45 TCB
DESCRIPTION:U13 AA Traxx Coachlines @ Terwillegar B \n
URL:https://ssac.hockey/event/u13-aa-tc-practice-1945-tcb-4/
LOCATION:2051 Leger Rd NW\, Edmonton\, AB\, T6R 0R8\, Canada
CATEGORIES:U13 AA,U13 AA Traxx Coachlines
END:VEVENT
END:VCALENDAR