BEGIN:VCALENDAR
VERSION:2.0
PRODID:-//SSAC Hockey - ECPv4.5.7//NONSGML v1.0//EN
CALSCALE:GREGORIAN
METHOD:PUBLISH
X-WR-CALNAME:SSAC Hockey
X-ORIGINAL-URL:https://ssac.hockey
X-WR-CALDESC:Events for SSAC Hockey
BEGIN:VEVENT
DTSTART;TZID=America/Edmonton:20211210T170000
DTEND;TZID=America/Edmonton:20211210T180000
DTSTAMP:20260423T153641
CREATED:20211023T032257Z
LAST-MODIFIED:20211119T003239Z
UID:<span 
                data-original-string="7fVJdzS3GEPgu35AJ1Sryw==052ZeRIfasQGueRegzR0M1vyzjPn0cIQh1e85NQpU3G+HNwvqlyX6l9ANZNwXn+MFFb"
                class="apbct-email-encoder"
                title="This contact has been encoded by Anti-Spam by CleanTalk. Click to decode. To finish the decoding make sure that JavaScript is enabled in your browser.">22<span class="apbct-blur">*************************@ss**.hock</span>ey</span>
SUMMARY:U13 AA TC Practice 17:00 SSA
DESCRIPTION:U13 AA Traxx Coachlines @ South Side \n
URL:https://ssac.hockey/event/u13-aa-tc-practice-1700-ssa-3/
LOCATION:10525 72 Ave. NW\, Edmonton\, AB\, T6E 0Z7\, Canada
CATEGORIES:U13 AA,U13 AA Traxx Coachlines
END:VEVENT
END:VCALENDAR