BEGIN:VCALENDAR
VERSION:2.0
PRODID:-//SSAC Hockey - ECPv4.5.7//NONSGML v1.0//EN
CALSCALE:GREGORIAN
METHOD:PUBLISH
X-WR-CALNAME:SSAC Hockey
X-ORIGINAL-URL:https://ssac.hockey
X-WR-CALDESC:Events for SSAC Hockey
BEGIN:VEVENT
DTSTART;TZID=America/Edmonton:20211204T193000
DTEND;TZID=America/Edmonton:20211204T210000
DTSTAMP:20260422T111952
CREATED:20211023T032354Z
LAST-MODIFIED:20211119T003239Z
UID:<span 
                data-original-string="siuxf3Vu49gk+aZGjEYrcg==052TtQ1JEjoaCuFmLhq7Zd8msJTu6d/OZv6s31rOVhg+Z4WnB8xuRlUzVapQ3a2r8Hh"
                class="apbct-email-encoder"
                title="This contact has been encoded by Anti-Spam by CleanTalk. Click to decode. To finish the decoding make sure that JavaScript is enabled in your browser.">22<span class="apbct-blur">*************************@ss**.hock</span>ey</span>
SUMMARY:U13 AA TC Game 19:30 MWB
DESCRIPTION:U13 AA Traxx Coachlines vs Leduc Roughnecks @ Mill Woods B \n
URL:https://ssac.hockey/event/u13-aa-tc-game-1930-mwb/
LOCATION:7207 28 Ave NW\, Edmonton\, AB\, T6K 3Z3\, Canada
CATEGORIES:U13 AA,U13 AA Traxx Coachlines
END:VEVENT
END:VCALENDAR