BEGIN:VCALENDAR
VERSION:2.0
PRODID:-//SSAC Hockey - ECPv4.5.7//NONSGML v1.0//EN
CALSCALE:GREGORIAN
METHOD:PUBLISH
X-WR-CALNAME:SSAC Hockey
X-ORIGINAL-URL:https://ssac.hockey
X-WR-CALDESC:Events for SSAC Hockey
BEGIN:VEVENT
DTSTART;TZID=America/Edmonton:20220215T193000
DTEND;TZID=America/Edmonton:20220215T210000
DTSTAMP:20260425T204100
CREATED:20220205T042808Z
LAST-MODIFIED:20220205T042808Z
UID:<span 
                data-original-string="iusZJeHLSxCWbwo84l4quw==0522sBLe9TEtaHeQjPLGQ4LIH3mpH/68eJ+BOzQOFxeNR472haoRdrRZwPe/1034i/7"
                class="apbct-email-encoder"
                title="This contact has been encoded by Anti-Spam by CleanTalk. Click to decode. To finish the decoding make sure that JavaScript is enabled in your browser.">26<span class="apbct-blur">*************************@ss**.hock</span>ey</span>
SUMMARY:U13 AA TC Game 19:30 MWB
DESCRIPTION:U13 AA Traxx Coachlines vs MLAC Pursuit of Motion Physio @ Mill Woods B \n
URL:https://ssac.hockey/event/u13-aa-tc-game-1930-mwb-4/
LOCATION:7207 28 Ave NW\, Edmonton\, AB\, T6K 3Z3\, Canada
CATEGORIES:U13 AA,U13 AA Traxx Coachlines
END:VEVENT
END:VCALENDAR