BEGIN:VCALENDAR
VERSION:2.0
PRODID:-//SSAC Hockey - ECPv4.5.7//NONSGML v1.0//EN
CALSCALE:GREGORIAN
METHOD:PUBLISH
X-WR-CALNAME:SSAC Hockey
X-ORIGINAL-URL:https://ssac.hockey
X-WR-CALDESC:Events for SSAC Hockey
BEGIN:VEVENT
DTSTART;TZID=America/Edmonton:20220118T193000
DTEND;TZID=America/Edmonton:20220118T210000
DTSTAMP:20260423T204126
CREATED:20211231T225415Z
LAST-MODIFIED:20211231T225415Z
UID:<span 
                data-original-string="dtKUZLRYqJHWYB91esezLQ==052SUjr2oaUei9QNLbJZNnMZQ/ZRnhJIsYttWImowLqjLL/s/VuW62ZZgI5eTAnvMR+"
                class="apbct-email-encoder"
                title="This contact has been encoded by Anti-Spam by CleanTalk. Click to decode. To finish the decoding make sure that JavaScript is enabled in your browser.">25<span class="apbct-blur">*************************@ss**.hock</span>ey</span>
SUMMARY:U13 AA TC Game 19:30 MWB
DESCRIPTION:U13 AA Traxx Coachlines vs KC Lancers @ Mill Woods B \n
URL:https://ssac.hockey/event/u13-aa-tc-game-1930-mwb-3/
LOCATION:7207 28 Ave NW\, Edmonton\, AB\, T6K 3Z3\, Canada
CATEGORIES:U13 AA,U13 AA Traxx Coachlines
END:VEVENT
END:VCALENDAR