BEGIN:VCALENDAR
VERSION:2.0
PRODID:-//SSAC Hockey - ECPv4.5.7//NONSGML v1.0//EN
CALSCALE:GREGORIAN
METHOD:PUBLISH
X-WR-CALNAME:SSAC Hockey
X-ORIGINAL-URL:https://ssac.hockey
X-WR-CALDESC:Events for SSAC Hockey
BEGIN:VEVENT
DTSTART;TZID=America/Edmonton:20220205T180000
DTEND;TZID=America/Edmonton:20220205T201500
DTSTAMP:20260425T033944
CREATED:20211231T225443Z
LAST-MODIFIED:20220205T042808Z
UID:<span 
                data-original-string="JnkgLeh3A+3JhELoHcTvEw==0528YKtW5SrVcqYlxwITM36hNsWMgXzELpc42FRr191UjQc9r4ACmqGDkZvNfTo3yUD"
                class="apbct-email-encoder"
                title="This contact has been encoded by Anti-Spam by CleanTalk. Click to decode. To finish the decoding make sure that JavaScript is enabled in your browser.">25<span class="apbct-blur">*************************@ss**.hock</span>ey</span>
SUMMARY:U13 AA TC Game 18:00 KN1
DESCRIPTION:U13 AA Traxx Coachlines at Beaumont Braves @ Ken Nichol 1 \n
URL:https://ssac.hockey/event/u13-aa-tc-game-1800-kn1/
LOCATION:5303 50 St\, Beaumont\, AB\, T4X 1E5\, Canada
CATEGORIES:U13 AA,U13 AA Traxx Coachlines
END:VEVENT
END:VCALENDAR