BEGIN:VCALENDAR
VERSION:2.0
PRODID:-//SSAC Hockey - ECPv4.5.7//NONSGML v1.0//EN
CALSCALE:GREGORIAN
METHOD:PUBLISH
X-WR-CALNAME:SSAC Hockey
X-ORIGINAL-URL:https://ssac.hockey
X-WR-CALDESC:Events for SSAC Hockey
BEGIN:VEVENT
DTSTART;TZID=America/Edmonton:20250312T200000
DTEND;TZID=America/Edmonton:20250312T210000
DTSTAMP:20260425T160118
CREATED:20250313T012130Z
LAST-MODIFIED:20250313T012130Z
UID:<span 
                data-original-string="HdxIilKJ/PupfelepBtJ6Q==0529QrMBNsGbmn+pfQ94sqL7p6U9a1Lb8oQUWu24wAp+4MDjPGkQod7JOoqxKAIiUqq"
                class="apbct-email-encoder"
                title="This contact has been encoded by Anti-Spam by CleanTalk. Click to decode. To finish the decoding make sure that JavaScript is enabled in your browser.">39<span class="apbct-blur">*************************@ss**.hock</span>ey</span>
SUMMARY:U13 AA Practice 20:00 KMB
DESCRIPTION:U13 AA Traxx Coachlines @ Kinsmen B \n
URL:https://ssac.hockey/event/u13-aa-practice-2000-kmb/
LOCATION:1979 111 St NW\, Edmonton\, AB\, T6J 7C6\, Canada
CATEGORIES:U13 AA,U13 AA Traxx Coachlines
END:VEVENT
END:VCALENDAR