BEGIN:VCALENDAR
VERSION:2.0
PRODID:-//SSAC Hockey - ECPv4.5.7//NONSGML v1.0//EN
CALSCALE:GREGORIAN
METHOD:PUBLISH
X-WR-CALNAME:SSAC Hockey
X-ORIGINAL-URL:https://ssac.hockey
X-WR-CALDESC:Events for SSAC Hockey
BEGIN:VEVENT
DTSTART;TZID=America/Edmonton:20251026T181500
DTEND;TZID=America/Edmonton:20251026T191500
DTSTAMP:20260423T102858
CREATED:20250925T192348Z
LAST-MODIFIED:20250925T192348Z
UID:<span 
                data-original-string="Knpx41eS+lg0rvGNiGlBiQ==052Dq6hrXFMkRj3ZgGOqPEJSBOnnpKjFr9ZJv2yGugakf1Jsoo00TOP324pnhfy9d5+"
                class="apbct-email-encoder"
                title="This contact has been encoded by Anti-Spam by CleanTalk. Click to decode. To finish the decoding make sure that JavaScript is enabled in your browser.">40<span class="apbct-blur">*************************@ss**.hock</span>ey</span>
SUMMARY:U13 AA Practice 18:15 CFA
DESCRIPTION:U13 AA TRAXX Coachlines @ Confederation \n
URL:https://ssac.hockey/event/u13-aa-practice-1815-cfa-5/
LOCATION:11204 43 Ave NW\, Edmonton\, AB\, T6J 2R3\, Canada
CATEGORIES:U13 AA,U13 AA Traxx Coachlines
END:VEVENT
END:VCALENDAR