BEGIN:VCALENDAR
VERSION:2.0
PRODID:-//SSAC Hockey - ECPv4.5.7//NONSGML v1.0//EN
CALSCALE:GREGORIAN
METHOD:PUBLISH
X-WR-CALNAME:SSAC Hockey
X-ORIGINAL-URL:https://ssac.hockey
X-WR-CALDESC:Events for SSAC Hockey
BEGIN:VEVENT
DTSTART;TZID=America/Edmonton:20220215T193000
DTEND;TZID=America/Edmonton:20220215T203000
DTSTAMP:20260425T205503
CREATED:20220205T042323Z
LAST-MODIFIED:20220205T042323Z
UID:<span 
                data-original-string="1UiS5MFK3ZlDr+gYErIbcg==0525mnLS5vGF9Th71suzimzr+oKxoi99LsO4janJOxfuXnRWDbGd4GkcyFUJ9ESNZmF"
                class="apbct-email-encoder"
                title="This contact has been encoded by Anti-Spam by CleanTalk. Click to decode. To finish the decoding make sure that JavaScript is enabled in your browser.">26<span class="apbct-blur">*************************@ss**.hock</span>ey</span>
SUMMARY:U13 AA IP Skills 19:30 WEM
DESCRIPTION:U13 AA Innovation Physio | Defensive Edge @ West Edmonton Mall Ice Palace \n
URL:https://ssac.hockey/event/u13-aa-ip-skills-1930-wem-14/
LOCATION:8882 170 St NW\, Edmonton\, AB\, T5T 4J2\, Canada
CATEGORIES:U13 AA,U13 AA Innovation Physio
END:VEVENT
END:VCALENDAR