BEGIN:VCALENDAR
VERSION:2.0
PRODID:-//SSAC Hockey - ECPv4.5.7//NONSGML v1.0//EN
CALSCALE:GREGORIAN
METHOD:PUBLISH
X-WR-CALNAME:SSAC Hockey
X-ORIGINAL-URL:https://ssac.hockey
X-WR-CALDESC:Events for SSAC Hockey
BEGIN:VEVENT
DTSTART;TZID=America/Edmonton:20211122T193000
DTEND;TZID=America/Edmonton:20211122T203000
DTSTAMP:20260425T104814
CREATED:20211023T030256Z
LAST-MODIFIED:20211023T030256Z
UID:<span 
                data-original-string="YXrmg4TMXKnlRmWbfYlhdw==052J6NF5AP5rxaWBSjEUzjSEHM1yLA546PqGqhjqqMOitC2J9gC0lpmq/HJIgZBmbHj"
                class="apbct-email-encoder"
                title="This contact has been encoded by Anti-Spam by CleanTalk. Click to decode. To finish the decoding make sure that JavaScript is enabled in your browser.">22<span class="apbct-blur">*************************@ss**.hock</span>ey</span>
SUMMARY:U13 AA IP Skills 19:30 TIA
DESCRIPTION:U13 AA Innovation Physio | Quantum Speed @ Tipton \n
URL:https://ssac.hockey/event/u13-aa-ip-skills-1930-tia/
LOCATION:10828 80 Ave NW\, Edmonton\, AB\, T6E 5B5\, Canada
CATEGORIES:U13 AA,U13 AA Innovation Physio
END:VEVENT
END:VCALENDAR