BEGIN:VCALENDAR
VERSION:2.0
PRODID:-//SSAC Hockey - ECPv4.5.7//NONSGML v1.0//EN
CALSCALE:GREGORIAN
METHOD:PUBLISH
X-WR-CALNAME:SSAC Hockey
X-ORIGINAL-URL:https://ssac.hockey
X-WR-CALDESC:Events for SSAC Hockey
BEGIN:VEVENT
DTSTART;TZID=America/Edmonton:20220214T193000
DTEND;TZID=America/Edmonton:20220214T203000
DTSTAMP:20260425T190914
CREATED:20220205T042323Z
LAST-MODIFIED:20220216T005320Z
UID:<span 
                data-original-string="LISibciPqyYwxPKiYR6zqw==052gtEsPzljAP4urrhlSZXPzogInMSzfmCC7U0Ax+dLf9gZ765hWmS2Gqa3iqkEb29k"
                class="apbct-email-encoder"
                title="This contact has been encoded by Anti-Spam by CleanTalk. Click to decode. To finish the decoding make sure that JavaScript is enabled in your browser.">26<span class="apbct-blur">*************************@ss**.hock</span>ey</span>
SUMMARY:U13 AA IP Skills 19:30 TIA —CANCELLED—
DESCRIPTION:U13 AA Innovation Physio | Quantum Speed @ Tipton \n
URL:https://ssac.hockey/event/u13-aa-ip-skills-1930-tia-5/
LOCATION:10828 80 Ave NW\, Edmonton\, AB\, T6E 5B5\, Canada
CATEGORIES:U13 AA,U13 AA Innovation Physio
END:VEVENT
END:VCALENDAR