BEGIN:VCALENDAR
VERSION:2.0
PRODID:-//SSAC Hockey - ECPv4.5.7//NONSGML v1.0//EN
CALSCALE:GREGORIAN
METHOD:PUBLISH
X-WR-CALNAME:SSAC Hockey
X-ORIGINAL-URL:https://ssac.hockey
X-WR-CALDESC:Events for SSAC Hockey
BEGIN:VEVENT
DTSTART;TZID=America/Edmonton:20211223T180000
DTEND;TZID=America/Edmonton:20211223T190000
DTSTAMP:20260422T165011
CREATED:20211119T002748Z
LAST-MODIFIED:20211119T002748Z
UID:<span 
                data-original-string="ufgweQAjTZuQ6yXO5d16jA==052zmV4JmE2uJ7DLyKbyEPgcpHEQaQ3n6uAxKe58+l20dN3uL52byRuEOJNmo2nyAI6"
                class="apbct-email-encoder"
                title="This contact has been encoded by Anti-Spam by CleanTalk. Click to decode. To finish the decoding make sure that JavaScript is enabled in your browser.">23<span class="apbct-blur">*************************@ss**.hock</span>ey</span>
SUMMARY:U13 AA IP Practice 18:00 TCB
DESCRIPTION:U13 AA Innovation Physio @ Terwillegar B \n
URL:https://ssac.hockey/event/u13-aa-ip-practice-1800-tcb-2/
LOCATION:2051 Leger Rd NW\, Edmonton\, AB\, T6R 0R8\, Canada
CATEGORIES:U13 AA,U13 AA Innovation Physio
END:VEVENT
END:VCALENDAR