BEGIN:VCALENDAR
VERSION:2.0
PRODID:-//SSAC Hockey - ECPv4.5.7//NONSGML v1.0//EN
CALSCALE:GREGORIAN
METHOD:PUBLISH
X-WR-CALNAME:SSAC Hockey
X-ORIGINAL-URL:https://ssac.hockey
X-WR-CALDESC:Events for SSAC Hockey
BEGIN:VEVENT
DTSTART;TZID=America/Edmonton:20220103T170000
DTEND;TZID=America/Edmonton:20220103T180000
DTSTAMP:20260424T140449
CREATED:20211119T002720Z
LAST-MODIFIED:20211231T224712Z
UID:<span 
                data-original-string="HqVrhpG3/FxYa6sqDMI/wA==052lMtQUVjPdCv43e56fhOwhKz8M9A6tKjRdE2XWNE+iUk5x7pcF7/on/dDDOdyujkk"
                class="apbct-email-encoder"
                title="This contact has been encoded by Anti-Spam by CleanTalk. Click to decode. To finish the decoding make sure that JavaScript is enabled in your browser.">23<span class="apbct-blur">*************************@ss**.hock</span>ey</span>
SUMMARY:U13 AA IP Practice 17:00 BHA
DESCRIPTION:U13 AA Innovation Physio @ Bill Hunter \n
URL:https://ssac.hockey/event/u13-aa-ip-practice-1700-bha/
LOCATION:9200 - 163 Street NW\, Edmonton\, AB\, T5R 2P3\, Canada
CATEGORIES:U13 AA,U13 AA Innovation Physio
END:VEVENT
END:VCALENDAR