BEGIN:VCALENDAR
VERSION:2.0
PRODID:-//SSAC Hockey - ECPv4.5.7//NONSGML v1.0//EN
CALSCALE:GREGORIAN
METHOD:PUBLISH
X-WR-CALNAME:SSAC Hockey
X-ORIGINAL-URL:https://ssac.hockey
X-WR-CALDESC:Events for SSAC Hockey
BEGIN:VEVENT
DTSTART;TZID=America/Edmonton:20220205T163000
DTEND;TZID=America/Edmonton:20220205T173000
DTSTAMP:20260425T033800
CREATED:20211231T224847Z
LAST-MODIFIED:20220205T042431Z
UID:<span 
                data-original-string="5HWI2ACKXqRdmsXwcqWTrw==052T/VwZEg76cpbxUyMSOj4yK9Y1cz7yKzt+LzOQ3GJVYsQxwhs6GleZVS2P57HDF6l"
                class="apbct-email-encoder"
                title="This contact has been encoded by Anti-Spam by CleanTalk. Click to decode. To finish the decoding make sure that JavaScript is enabled in your browser.">24<span class="apbct-blur">*************************@ss**.hock</span>ey</span>
SUMMARY:U13 AA IP Practice 16:30 SSA
DESCRIPTION:U13 AA Innovation Physio @ South Side \n
URL:https://ssac.hockey/event/u13-aa-ip-practice-1630-ssa-9/
LOCATION:10525 72 Ave. NW\, Edmonton\, AB\, T6E 0Z7\, Canada
CATEGORIES:U13 AA,U13 AA Innovation Physio
END:VEVENT
END:VCALENDAR