BEGIN:VCALENDAR
VERSION:2.0
PRODID:-//SSAC Hockey - ECPv4.5.7//NONSGML v1.0//EN
CALSCALE:GREGORIAN
METHOD:PUBLISH
X-WR-CALNAME:SSAC Hockey
X-ORIGINAL-URL:https://ssac.hockey
X-WR-CALDESC:Events for SSAC Hockey
BEGIN:VEVENT
DTSTART;TZID=America/Edmonton:20220129T163000
DTEND;TZID=America/Edmonton:20220129T173000
DTSTAMP:20260424T160252
CREATED:20211231T224820Z
LAST-MODIFIED:20211231T224820Z
UID:<span 
                data-original-string="NK3miNGUmmm91Nfu4Pzw0Q==052W83Fnjowes/hQ09w1vhpRhV21jxg2kbPDdxiM6qOG/SOSalFN1j4TUDWImL1YPF0"
                class="apbct-email-encoder"
                title="This contact has been encoded by Anti-Spam by CleanTalk. Click to decode. To finish the decoding make sure that JavaScript is enabled in your browser.">24<span class="apbct-blur">*************************@ss**.hock</span>ey</span>
SUMMARY:U13 AA IP Practice 16:30 SSA
DESCRIPTION:U13 AA Innovation Physio @ South Side \n
URL:https://ssac.hockey/event/u13-aa-ip-practice-1630-ssa-8/
LOCATION:10525 72 Ave. NW\, Edmonton\, AB\, T6E 0Z7\, Canada
CATEGORIES:U13 AA,U13 AA Innovation Physio
END:VEVENT
END:VCALENDAR