BEGIN:VCALENDAR
VERSION:2.0
PRODID:-//SSAC Hockey - ECPv4.5.7//NONSGML v1.0//EN
CALSCALE:GREGORIAN
METHOD:PUBLISH
X-WR-CALNAME:SSAC Hockey
X-ORIGINAL-URL:https://ssac.hockey
X-WR-CALDESC:Events for SSAC Hockey
BEGIN:VEVENT
DTSTART;TZID=America/Edmonton:20211228T094500
DTEND;TZID=America/Edmonton:20211228T104500
DTSTAMP:20260422T055215
CREATED:20211208T022808Z
LAST-MODIFIED:20211208T022808Z
UID:<span 
                data-original-string="RGmI1l86efsLZrop5sU5hw==052hR3W9OIOJMW+/byUn5ezXTcP559wfygk2a/wIESBvfUV30LK5Etl9/htHNax3Bqi"
                class="apbct-email-encoder"
                title="This contact has been encoded by Anti-Spam by CleanTalk. Click to decode. To finish the decoding make sure that JavaScript is enabled in your browser.">24<span class="apbct-blur">*************************@ss**.hock</span>ey</span>
SUMMARY:U13 AA IP Practice 09:45 CRA
DESCRIPTION:U13 AA Innovation Physio @ Crestwood \n
URL:https://ssac.hockey/event/u13-aa-ip-practice-0945-cra/
LOCATION:9940 147 St NW\, Edmonton\, AB\, T5N 4A6\, Canada
CATEGORIES:U13 AA,U13 AA Innovation Physio
END:VEVENT
END:VCALENDAR