BEGIN:VCALENDAR
VERSION:2.0
PRODID:-//SSAC Hockey - ECPv4.5.7//NONSGML v1.0//EN
CALSCALE:GREGORIAN
METHOD:PUBLISH
X-WR-CALNAME:SSAC Hockey
X-ORIGINAL-URL:https://ssac.hockey
X-WR-CALDESC:Events for SSAC Hockey
BEGIN:VEVENT
DTSTART;TZID=America/Edmonton:20211217T163000
DTEND;TZID=America/Edmonton:20211217T173000
DTSTAMP:20260423T024759
CREATED:20211119T002815Z
LAST-MODIFIED:20211119T010551Z
UID:<span 
                data-original-string="8LLKURz27eUt1gHBC3neMQ==052lV+mdA4WwYgfjjOut6mEeBt8ZhLG0CIbOU0i/VWvQugKZWwyWwj1l866yn9yIPun"
                class="apbct-email-encoder"
                title="This contact has been encoded by Anti-Spam by CleanTalk. Click to decode. To finish the decoding make sure that JavaScript is enabled in your browser.">23<span class="apbct-blur">*************************@ss**.hock</span>ey</span>
SUMMARY:U13 AA IP Practice 16:30 MWB
DESCRIPTION:U13 AA Innovation Physio @ Mill Woods B \n
URL:https://ssac.hockey/event/u13-aa-ip-game-1630-mwb/
LOCATION:7207 28 Ave NW\, Edmonton\, AB\, T6K 3Z3\, Canada
CATEGORIES:U13 AA,U13 AA Innovation Physio
END:VEVENT
END:VCALENDAR