BEGIN:VCALENDAR
VERSION:2.0
PRODID:-//SSAC Hockey - ECPv4.5.7//NONSGML v1.0//EN
CALSCALE:GREGORIAN
METHOD:PUBLISH
X-WR-CALNAME:SSAC Hockey
X-ORIGINAL-URL:https://ssac.hockey
X-WR-CALDESC:Events for SSAC Hockey
BEGIN:VEVENT
DTSTART;TZID=America/Edmonton:20220213T110000
DTEND;TZID=America/Edmonton:20220213T123000
DTSTAMP:20260425T185842
CREATED:20220205T042533Z
LAST-MODIFIED:20220205T042533Z
UID:<span 
                data-original-string="vVH7sN8ypCuitt0ePWsU4A==052zOfLTdmCPwUC4GmckQpkyn+XHrZ5Mji+18BfsT+cTE9a88kc8ERNSSpFi1Ym6+Oa"
                class="apbct-email-encoder"
                title="This contact has been encoded by Anti-Spam by CleanTalk. Click to decode. To finish the decoding make sure that JavaScript is enabled in your browser.">26<span class="apbct-blur">*************************@ss**.hock</span>ey</span>
SUMMARY:U13 AA IP Exhibition 11:00 MUR
DESCRIPTION:U13 AA Innovation Physio at CNHA Gold @ Murray Copot \n
URL:https://ssac.hockey/event/u13-aa-ip-exhibition-1100-mur/
CATEGORIES:U13 AA,U13 AA Innovation Physio
END:VEVENT
END:VCALENDAR