BEGIN:VCALENDAR
VERSION:2.0
PRODID:-//SSAC Hockey - ECPv4.5.7//NONSGML v1.0//EN
CALSCALE:GREGORIAN
METHOD:PUBLISH
X-WR-CALNAME:SSAC Hockey
X-ORIGINAL-URL:https://ssac.hockey
X-WR-CALDESC:Events for SSAC Hockey
BEGIN:VEVENT
DTSTART;TZID=America/Edmonton:20251025T174500
DTEND;TZID=America/Edmonton:20251025T200000
DTSTAMP:20260422T103544
CREATED:20251023T024157Z
LAST-MODIFIED:20251023T024157Z
UID:<span 
                data-original-string="8LF0jEOpBYFaewew4qJvZQ==052rbQd+75qFeNN8QkEPDptLGWwDAitMq08oSEStAeXdZmI76E624suumPc8KtyXlZc"
                class="apbct-email-encoder"
                title="This contact has been encoded by Anti-Spam by CleanTalk. Click to decode. To finish the decoding make sure that JavaScript is enabled in your browser.">41<span class="apbct-blur">*************************@ss**.hock</span>ey</span>
SUMMARY:U13 AA Game 17:45 WBJ
DESCRIPTION:U13 AA TRAXX Coachlines at Leduc Roughnecks @ Wilhauk Beef Jerky \n
URL:https://ssac.hockey/event/u13-aa-game-1745-wbj/
CATEGORIES:U13 AA,U13 AA Traxx Coachlines
END:VEVENT
END:VCALENDAR