BEGIN:VCALENDAR
VERSION:2.0
PRODID:-//SSAC Hockey - ECPv4.5.7//NONSGML v1.0//EN
CALSCALE:GREGORIAN
METHOD:PUBLISH
X-WR-CALNAME:SSAC Hockey
X-ORIGINAL-URL:https://ssac.hockey
X-WR-CALDESC:Events for SSAC Hockey
BEGIN:VEVENT
DTSTART;TZID=America/Edmonton:20211213T170000
DTEND;TZID=America/Edmonton:20211213T180000
DTSTAMP:20260423T100546
CREATED:20211119T001813Z
LAST-MODIFIED:20220107T184903Z
UID:<span 
                data-original-string="U0Uu2sxW7t9YO9BUQ9exSQ==052mxBEUQFMPdyfWpqxW+2KU5Qy/Ds/h4vyFRiZmkyZ/wIqzJ0QoEAtKaFFDJOjg/ob"
                class="apbct-email-encoder"
                title="This contact has been encoded by Anti-Spam by CleanTalk. Click to decode. To finish the decoding make sure that JavaScript is enabled in your browser.">23<span class="apbct-blur">*************************@ss**.hock</span>ey</span>
SUMMARY:U13 AA IP Skills 17:00 BHA
DESCRIPTION:U13 AA Innovation Physio | Quantum Speed @ Bill Hunter \n
URL:https://ssac.hockey/event/u13-aa-aw-skills-1700-bha-2/
LOCATION:9200 - 163 Street NW\, Edmonton\, AB\, T5R 2P3\, Canada
CATEGORIES:U13 AA,U13 AA Innovation Physio
END:VEVENT
END:VCALENDAR