BEGIN:VCALENDAR
VERSION:2.0
PRODID:-//SSAC Hockey - ECPv4.5.7//NONSGML v1.0//EN
CALSCALE:GREGORIAN
METHOD:PUBLISH
X-WR-CALNAME:SSAC Hockey
X-ORIGINAL-URL:https://ssac.hockey
X-WR-CALDESC:Events for SSAC Hockey
BEGIN:VEVENT
DTSTART;TZID=America/Edmonton:20220113T190000
DTEND;TZID=America/Edmonton:20220113T203000
DTSTAMP:20260423T111354
CREATED:20220104T235827Z
LAST-MODIFIED:20220104T235827Z
UID:<span 
                data-original-string="3eaejBOWG4IFAKdyVET1qQ==052DvQ7BxEMGYLLdaDg5+Pt+Z/35kYcwhzRrE7PrbXWh5zjVLvODn6N2oFCt5erpZtX"
                class="apbct-email-encoder"
                title="This contact has been encoded by Anti-Spam by CleanTalk. Click to decode. To finish the decoding make sure that JavaScript is enabled in your browser.">25<span class="apbct-blur">*************************@ss**.hock</span>ey</span>
SUMMARY:U13 AA AW Practice 19:00 MWA
DESCRIPTION:U13 AA ATB Wealth @ Kyle Fundytus Mill Woods A \n
URL:https://ssac.hockey/event/u13-aa-aw-practice-1900-mwa-4/
LOCATION:7207 28 Ave NW\, Edmonton\, AB\, T6K 3Z3\, Canada
CATEGORIES:U13 AA,U13 AA ATB Wealth
END:VEVENT
END:VCALENDAR