BEGIN:VCALENDAR
VERSION:2.0
PRODID:-//SSAC Hockey - ECPv4.5.7//NONSGML v1.0//EN
CALSCALE:GREGORIAN
METHOD:PUBLISH
X-WR-CALNAME:SSAC Hockey
X-ORIGINAL-URL:https://ssac.hockey
X-WR-CALDESC:Events for SSAC Hockey
BEGIN:VEVENT
DTSTART;TZID=America/Edmonton:20220112T183000
DTEND;TZID=America/Edmonton:20220112T193000
DTSTAMP:20260423T092817
CREATED:20211231T224308Z
LAST-MODIFIED:20211231T224308Z
UID:<span 
                data-original-string="pxn5LKOyhUFbzytTJjDGrg==052OfO2frVdKrVxQHPPUITeDe3Ne/4gz++IeDdJXz7V2qCMvuhF7Y4/sGaLLhRzi010"
                class="apbct-email-encoder"
                title="This contact has been encoded by Anti-Spam by CleanTalk. Click to decode. To finish the decoding make sure that JavaScript is enabled in your browser.">24<span class="apbct-blur">*************************@ss**.hock</span>ey</span>
SUMMARY:U13 AA AW Practice 18:30 DNA
DESCRIPTION:U13 AA ATB Wealth @ Donnan \n
URL:https://ssac.hockey/event/u13-aa-aw-practice-1830-dna/
LOCATION:9105 80 Avenue\, Edmonton\, AB\, T6C 0N9\, Canada
CATEGORIES:U13 AA,U13 AA ATB Wealth
END:VEVENT
END:VCALENDAR