BEGIN:VCALENDAR
VERSION:2.0
PRODID:-//SSAC Hockey - ECPv4.5.7//NONSGML v1.0//EN
CALSCALE:GREGORIAN
METHOD:PUBLISH
X-WR-CALNAME:SSAC Hockey
X-ORIGINAL-URL:https://ssac.hockey
X-WR-CALDESC:Events for SSAC Hockey
BEGIN:VEVENT
DTSTART;TZID=America/Edmonton:20211121T183000
DTEND;TZID=America/Edmonton:20211121T193000
DTSTAMP:20260423T100332
CREATED:20211023T025818Z
LAST-MODIFIED:20211023T025818Z
UID:<span 
                data-original-string="q+/BAf1q1UONlLwceiTPfQ==052YC4TLwffuOmqDoKH4wjV19PYfkLl5XnPezTSv9M1nFdorWv/WN7/bxqwgY3p+s40"
                class="apbct-email-encoder"
                title="This contact has been encoded by Anti-Spam by CleanTalk. Click to decode. To finish the decoding make sure that JavaScript is enabled in your browser.">22<span class="apbct-blur">*************************@ss**.hock</span>ey</span>
SUMMARY:U13 AA AW Practice 18:30 CFA
DESCRIPTION:U13 AA ATB Wealth @ Confederation \n
URL:https://ssac.hockey/event/u13-aa-aw-practice-1830-cfa-5/
LOCATION:11204 43 Ave NW\, Edmonton\, AB\, T6J 2R3\, Canada
CATEGORIES:U13 AA,U13 AA ATB Wealth
END:VEVENT
END:VCALENDAR