BEGIN:VCALENDAR
VERSION:2.0
PRODID:-//SSAC Hockey - ECPv4.5.7//NONSGML v1.0//EN
CALSCALE:GREGORIAN
METHOD:PUBLISH
X-WR-CALNAME:SSAC Hockey
X-ORIGINAL-URL:https://ssac.hockey
X-WR-CALDESC:Events for SSAC Hockey
BEGIN:VEVENT
DTSTART;TZID=America/Edmonton:20220212T174500
DTEND;TZID=America/Edmonton:20220212T184500
DTSTAMP:20260425T153702
CREATED:20220205T042134Z
LAST-MODIFIED:20220205T042134Z
UID:<span 
                data-original-string="ttq/pvAP5HTBTBu8mbv3YA==052Qa1eibS0IPptW3uqVv6hDltXnFqd7yiAa1ghNWzQsZEjz0Mir2Fwp0qAzEyQOEOw"
                class="apbct-email-encoder"
                title="This contact has been encoded by Anti-Spam by CleanTalk. Click to decode. To finish the decoding make sure that JavaScript is enabled in your browser.">26<span class="apbct-blur">*************************@ss**.hock</span>ey</span>
SUMMARY:U13 AA AW Practice 17:45 SSA
DESCRIPTION:U13 AA ATB Wealth @ South Side \n
URL:https://ssac.hockey/event/u13-aa-aw-practice-1745-ssa/
LOCATION:10525 72 Ave. NW\, Edmonton\, AB\, T6E 0Z7\, Canada
CATEGORIES:U13 AA,U13 AA ATB Wealth
END:VEVENT
END:VCALENDAR