BEGIN:VCALENDAR
VERSION:2.0
PRODID:-//SSAC Hockey - ECPv4.5.7//NONSGML v1.0//EN
CALSCALE:GREGORIAN
METHOD:PUBLISH
X-WR-CALNAME:SSAC Hockey
X-ORIGINAL-URL:https://ssac.hockey
X-WR-CALDESC:Events for SSAC Hockey
BEGIN:VEVENT
DTSTART;TZID=America/Edmonton:20220213T174500
DTEND;TZID=America/Edmonton:20220213T191500
DTSTAMP:20260425T172623
CREATED:20220205T042044Z
LAST-MODIFIED:20220205T042044Z
UID:<span 
                data-original-string="hnq4XeM2wMEl2E/kaRcqXQ==052kf1gPTFpTkZW/pSIchDdaZ9x4RmMierjdoKAvPiiZLwqJPX+hUP4ZItiLK/YeFQN"
                class="apbct-email-encoder"
                title="This contact has been encoded by Anti-Spam by CleanTalk. Click to decode. To finish the decoding make sure that JavaScript is enabled in your browser.">26<span class="apbct-blur">*************************@ss**.hock</span>ey</span>
SUMMARY:U13 AA AW Practice 17:45 KMB
DESCRIPTION:U13 AA ATB Wealth @ Kinsmen B \n
URL:https://ssac.hockey/event/u13-aa-aw-practice-1745-kmb/
LOCATION:1979 111 St NW\, Edmonton\, AB\, T6J 7C6\, Canada
CATEGORIES:U13 AA,U13 AA ATB Wealth
END:VEVENT
END:VCALENDAR