BEGIN:VCALENDAR
VERSION:2.0
PRODID:-//SSAC Hockey - ECPv4.5.7//NONSGML v1.0//EN
CALSCALE:GREGORIAN
METHOD:PUBLISH
X-WR-CALNAME:SSAC Hockey
X-ORIGINAL-URL:https://ssac.hockey
X-WR-CALDESC:Events for SSAC Hockey
BEGIN:VEVENT
DTSTART;TZID=America/Edmonton:20220127T173000
DTEND;TZID=America/Edmonton:20220127T183000
DTSTAMP:20260424T124002
CREATED:20211231T224308Z
LAST-MODIFIED:20211231T224308Z
UID:<span 
                data-original-string="FK45qzdlg8nypy3XF1wAHg==052j/Zw/I/tgTMB3hBJy/9XKfdILe4UPREBOA0cgMUTnX5xHkJidqHLtb25MoxchyAz"
                class="apbct-email-encoder"
                title="This contact has been encoded by Anti-Spam by CleanTalk. Click to decode. To finish the decoding make sure that JavaScript is enabled in your browser.">24<span class="apbct-blur">*************************@ss**.hock</span>ey</span>
SUMMARY:U13 AA AW Practice 17:30 CFA
DESCRIPTION:U13 AA ATB Wealth @ Confederation \n
URL:https://ssac.hockey/event/u13-aa-aw-practice-1730-cfa-6/
LOCATION:11204 43 Ave NW\, Edmonton\, AB\, T6J 2R3\, Canada
CATEGORIES:U13 AA,U13 AA ATB Wealth
END:VEVENT
END:VCALENDAR