BEGIN:VCALENDAR
VERSION:2.0
PRODID:-//SSAC Hockey - ECPv4.5.7//NONSGML v1.0//EN
CALSCALE:GREGORIAN
METHOD:PUBLISH
X-WR-CALNAME:SSAC Hockey
X-ORIGINAL-URL:https://ssac.hockey
X-WR-CALDESC:Events for SSAC Hockey
BEGIN:VEVENT
DTSTART;TZID=America/Edmonton:20220129T130000
DTEND;TZID=America/Edmonton:20220129T151500
DTSTAMP:20260424T155939
CREATED:20211231T224408Z
LAST-MODIFIED:20211231T224408Z
UID:<span 
                data-original-string="XBsDJEqcP+hgHsh0faUHrA==052kT7qjGXKd0xypqVPJcsT2kcBYLvVpo3+bGrt2p2POYEezyZ7CUWM2IvV39HwHdAZ"
                class="apbct-email-encoder"
                title="This contact has been encoded by Anti-Spam by CleanTalk. Click to decode. To finish the decoding make sure that JavaScript is enabled in your browser.">24<span class="apbct-blur">*************************@ss**.hock</span>ey</span>
SUMMARY:U13 AA AW Game 13:00 ARW
DESCRIPTION:U13 AA ATB Wealth at Strathcona Warriors @ Ardrossan West \n
URL:https://ssac.hockey/event/u13-aa-aw-game-1300-arw/
LOCATION:80-1 Avenue\, Ardrossan\, AB\, T8E 2A2\, Canada
CATEGORIES:U13 AA,U13 AA ATB Wealth
END:VEVENT
END:VCALENDAR