BEGIN:VCALENDAR
VERSION:2.0
PRODID:-//SSAC Hockey - ECPv4.5.7//NONSGML v1.0//EN
CALSCALE:GREGORIAN
METHOD:PUBLISH
X-WR-CALNAME:SSAC Hockey
X-ORIGINAL-URL:https://ssac.hockey
X-WR-CALDESC:Events for SSAC Hockey
BEGIN:VEVENT
DTSTART;TZID=America/Edmonton:20250926T080000
DTEND;TZID=America/Edmonton:20250926T091500
DTSTAMP:20260423T103128
CREATED:20250915T162315Z
LAST-MODIFIED:20250915T162315Z
UID:<span 
                data-original-string="IhT5tevLMUP1uPoIW/cczA==052SyRSNN8PhsvzNRr+D72/9D3Ze3XRLfHoJoWIrnRm/AnwDr9nMn9duA/M0YlbNfao"
                class="apbct-email-encoder"
                title="This contact has been encoded by Anti-Spam by CleanTalk. Click to decode. To finish the decoding make sure that JavaScript is enabled in your browser.">40<span class="apbct-blur">*************************@ss**.hock</span>ey</span>
SUMMARY:U11 AA AC SMHA Game 08:00 TOF
DESCRIPTION:U11 AA ZerOne Athleticare at MLAC Kallar Welding @ Tofield – Strathcona Minor Hockey Association Pre-Season \n
URL:https://ssac.hockey/event/u11-aa-ac-smha-game-0800-tof/
CATEGORIES:U11 AA,U11 AA ZerOne Athleticare
END:VEVENT
END:VCALENDAR